BEGIN:VCALENDAR
VERSION:2.0
PRODID:-//labrujula.co - ECPv6.15.20//NONSGML v1.0//EN
CALSCALE:GREGORIAN
METHOD:PUBLISH
X-WR-CALNAME:labrujula.co
X-ORIGINAL-URL:https://labrujula.co
X-WR-CALDESC:Eventos para labrujula.co
REFRESH-INTERVAL;VALUE=DURATION:PT1H
X-Robots-Tag:noindex
X-PUBLISHED-TTL:PT1H
BEGIN:VTIMEZONE
TZID:America/New_York
BEGIN:DAYLIGHT
TZOFFSETFROM:-0500
TZOFFSETTO:-0400
TZNAME:EDT
DTSTART:20250309T070000
END:DAYLIGHT
BEGIN:STANDARD
TZOFFSETFROM:-0400
TZOFFSETTO:-0500
TZNAME:EST
DTSTART:20251102T060000
END:STANDARD
BEGIN:DAYLIGHT
TZOFFSETFROM:-0500
TZOFFSETTO:-0400
TZNAME:EDT
DTSTART:20260308T070000
END:DAYLIGHT
BEGIN:STANDARD
TZOFFSETFROM:-0400
TZOFFSETTO:-0500
TZNAME:EST
DTSTART:20261101T060000
END:STANDARD
BEGIN:DAYLIGHT
TZOFFSETFROM:-0500
TZOFFSETTO:-0400
TZNAME:EDT
DTSTART:20270314T070000
END:DAYLIGHT
BEGIN:STANDARD
TZOFFSETFROM:-0400
TZOFFSETTO:-0500
TZNAME:EST
DTSTART:20271107T060000
END:STANDARD
END:VTIMEZONE
BEGIN:VEVENT
DTSTART;TZID=America/New_York:20260416T193000
DTEND;TZID=America/New_York:20260425T210000
DTSTAMP:20260422T231443
CREATED:20260330T235847Z
LAST-MODIFIED:20260331T001154Z
UID:10005940-1776367800-1777150800@labrujula.co
SUMMARY:Mal de amores
DESCRIPTION:ABRIL SE ENCIENDE EN ESCENA3 🔥 \nEste mes no vienes a ver teatro… vienes a sentirlo. \n💔 MAL DE AMORES\nPorque todo villano suspira por amor… \nUna obra intensa\, incómoda y profundamente humana que reúne a un equipo de dirección de alto calibre:\n🔥 Fabio Rubiano\n🔥 Johan Velandia\n🔥 Sebastián Illera\n🔥 Rodrigo Rodríguez \nCuatro miradas\, una sola herida: el amor llevado al límite. \n📅 Abril 16\, 17\, 18\, 23\, 24 y 25 (jueves\, viernes y sábados)\n🕢 7:30 pm\n🎟️ $30.000\nDescuentos para afiliados a @comfama Tarifa A: $11.200 / Tarifa B: $18.300 / Tarifa C: $27.900\n📍 Teatro Escena3 (Cra 45. # 52-72 El Palo con Maracaibo).\n📲 Compra de entradas solo en el siguientes WhatsApp \nhttps://wa.me/573217035575
URL:https://labrujula.co/evento/mal-de-amores/2026-04-16/
LOCATION:Teatro Escena 3\, Cra 45 # 52 - 72\, Medellin\, Colombia
CATEGORIES:Teatro
ATTACH;FMTTYPE=image/jpeg:https://labrujula.co/wp-content/uploads/2026/03/maldeamoresescena3.jpeg
END:VEVENT
BEGIN:VEVENT
DTSTART;TZID=America/New_York:20260417T193000
DTEND;TZID=America/New_York:20260426T210000
DTSTAMP:20260422T231443
CREATED:20260330T235847Z
LAST-MODIFIED:20260331T001154Z
UID:10005941-1776454200-1777237200@labrujula.co
SUMMARY:Mal de amores
DESCRIPTION:ABRIL SE ENCIENDE EN ESCENA3 🔥 \nEste mes no vienes a ver teatro… vienes a sentirlo. \n💔 MAL DE AMORES\nPorque todo villano suspira por amor… \nUna obra intensa\, incómoda y profundamente humana que reúne a un equipo de dirección de alto calibre:\n🔥 Fabio Rubiano\n🔥 Johan Velandia\n🔥 Sebastián Illera\n🔥 Rodrigo Rodríguez \nCuatro miradas\, una sola herida: el amor llevado al límite. \n📅 Abril 16\, 17\, 18\, 23\, 24 y 25 (jueves\, viernes y sábados)\n🕢 7:30 pm\n🎟️ $30.000\nDescuentos para afiliados a @comfama Tarifa A: $11.200 / Tarifa B: $18.300 / Tarifa C: $27.900\n📍 Teatro Escena3 (Cra 45. # 52-72 El Palo con Maracaibo).\n📲 Compra de entradas solo en el siguientes WhatsApp \nhttps://wa.me/573217035575
URL:https://labrujula.co/evento/mal-de-amores/2026-04-17/
LOCATION:Teatro Escena 3\, Cra 45 # 52 - 72\, Medellin\, Colombia
CATEGORIES:Teatro
ATTACH;FMTTYPE=image/jpeg:https://labrujula.co/wp-content/uploads/2026/03/maldeamoresescena3.jpeg
END:VEVENT
BEGIN:VEVENT
DTSTART;TZID=America/New_York:20260418T193000
DTEND;TZID=America/New_York:20260427T210000
DTSTAMP:20260422T231443
CREATED:20260330T235847Z
LAST-MODIFIED:20260331T001154Z
UID:10005942-1776540600-1777323600@labrujula.co
SUMMARY:Mal de amores
DESCRIPTION:ABRIL SE ENCIENDE EN ESCENA3 🔥 \nEste mes no vienes a ver teatro… vienes a sentirlo. \n💔 MAL DE AMORES\nPorque todo villano suspira por amor… \nUna obra intensa\, incómoda y profundamente humana que reúne a un equipo de dirección de alto calibre:\n🔥 Fabio Rubiano\n🔥 Johan Velandia\n🔥 Sebastián Illera\n🔥 Rodrigo Rodríguez \nCuatro miradas\, una sola herida: el amor llevado al límite. \n📅 Abril 16\, 17\, 18\, 23\, 24 y 25 (jueves\, viernes y sábados)\n🕢 7:30 pm\n🎟️ $30.000\nDescuentos para afiliados a @comfama Tarifa A: $11.200 / Tarifa B: $18.300 / Tarifa C: $27.900\n📍 Teatro Escena3 (Cra 45. # 52-72 El Palo con Maracaibo).\n📲 Compra de entradas solo en el siguientes WhatsApp \nhttps://wa.me/573217035575
URL:https://labrujula.co/evento/mal-de-amores/2026-04-18/
LOCATION:Teatro Escena 3\, Cra 45 # 52 - 72\, Medellin\, Colombia
CATEGORIES:Teatro
ATTACH;FMTTYPE=image/jpeg:https://labrujula.co/wp-content/uploads/2026/03/maldeamoresescena3.jpeg
END:VEVENT
END:VCALENDAR