BEGIN:VCALENDAR
VERSION:2.0
PRODID:-//labrujula.co - ECPv6.15.20//NONSGML v1.0//EN
CALSCALE:GREGORIAN
METHOD:PUBLISH
X-WR-CALNAME:labrujula.co
X-ORIGINAL-URL:https://labrujula.co
X-WR-CALDESC:Eventos para labrujula.co
REFRESH-INTERVAL;VALUE=DURATION:PT1H
X-Robots-Tag:noindex
X-PUBLISHED-TTL:PT1H
BEGIN:VTIMEZONE
TZID:America/New_York
BEGIN:DAYLIGHT
TZOFFSETFROM:-0500
TZOFFSETTO:-0400
TZNAME:EDT
DTSTART:20250309T070000
END:DAYLIGHT
BEGIN:STANDARD
TZOFFSETFROM:-0400
TZOFFSETTO:-0500
TZNAME:EST
DTSTART:20251102T060000
END:STANDARD
BEGIN:DAYLIGHT
TZOFFSETFROM:-0500
TZOFFSETTO:-0400
TZNAME:EDT
DTSTART:20260308T070000
END:DAYLIGHT
BEGIN:STANDARD
TZOFFSETFROM:-0400
TZOFFSETTO:-0500
TZNAME:EST
DTSTART:20261101T060000
END:STANDARD
BEGIN:DAYLIGHT
TZOFFSETFROM:-0500
TZOFFSETTO:-0400
TZNAME:EDT
DTSTART:20270314T070000
END:DAYLIGHT
BEGIN:STANDARD
TZOFFSETFROM:-0400
TZOFFSETTO:-0500
TZNAME:EST
DTSTART:20271107T060000
END:STANDARD
END:VTIMEZONE
BEGIN:VEVENT
DTSTART;TZID=America/New_York:20260419T130000
DTEND;TZID=America/New_York:20260420T040000
DTSTAMP:20260425T210020
CREATED:20260410T210858Z
LAST-MODIFIED:20260410T210858Z
UID:10005946-1776603600-1776657600@labrujula.co
SUMMARY:New Wave
DESCRIPTION:En medellin hubo una epoca en la que los mejores planes eran las fiestas en fincas. Sol\, piscina\, musica sonando todo el dia y parches que terminaban siendo inolvidables. Este domingo 19 de abril queremos volver a la esencia para celebrar nuestro aniversario. \nCompra tu entrada en este link: \nhttps://www.sonik.fm/events/69b0c125e9e03148280559e2?tickettier=69d928a812457c6a12a3997e
URL:https://labrujula.co/evento/new-wave/
LOCATION:Hotel Arena\, Paso Real\, ruta 62 predio 724\, Santafe de Antioquia\, Colombia
CATEGORIES:Fiesta electrónica
ATTACH;FMTTYPE=image/jpeg:https://labrujula.co/wp-content/uploads/2026/04/newwave3.jpg
END:VEVENT
BEGIN:VEVENT
DTSTART;TZID=America/New_York:20260418T190000
DTEND;TZID=America/New_York:20260419T040000
DTSTAMP:20260425T210020
CREATED:20260417T155000Z
LAST-MODIFIED:20260417T155001Z
UID:10005951-1776538800-1776571200@labrujula.co
SUMMARY:Project Belt 4
DESCRIPTION:Mas de 3.000 personas bailaran con los mejores clásicos de reggaeton. \nVuelve nuestra fiesta más emblemática al mejor estilo de Proyecto X con juegos\, concursos\, premios\, zonas de experiencias\, comida y descanso. \n 
URL:https://labrujula.co/evento/project-belt-4/
LOCATION:Sky Center\, La Mayorista\, Itagui\, Colombia
CATEGORIES:Fiesta,Rumba
ATTACH;FMTTYPE=image/jpeg:https://labrujula.co/wp-content/uploads/2026/04/projectbelt.jpeg
END:VEVENT
BEGIN:VEVENT
DTSTART;TZID=America/New_York:20260411T120000
DTEND;TZID=America/New_York:20260412T020000
DTSTAMP:20260425T210020
CREATED:20260328T190231Z
LAST-MODIFIED:20260328T190231Z
UID:10005939-1775908800-1775959200@labrujula.co
SUMMARY:The Brunch Sessions
DESCRIPTION:🎧 Headliner: CALUSSA\n\n🎟 Boletería:\n•Anytime: $183.000\n•Early: $150.000 (entrada hasta las 3pm)\n•Backstage: 328.000\n\npalcos: 3M (10 personas y bot licor)\n\n\n🍸 Todas las entradas incluyen cóctel de bienvenida.\n\n¡Nos vemos! 🎶🔥\n\nDjs: Headliner (duo internacional) Calussa\nDjs locales: Sortech\, Cobuz & bustta\, Elisabeth Moon\, Avc B2B Santiago Aguilar\, 247\, Andrew H B2B Gio\, Deuz b2b Fili\, Juanes Vasquez\n\nLink de venta\nhttps://www.eventgate.com.co/event-details/the-brunch-sessions-calussa\n\n🌅🕺¡El brunch más esperado del año vuelve! 🍸 ¿Qué pasa si The Brunch Sessions se junta con Salón Amador? ¡Pues los platos llegan más candentes que nunca de la mano de CALUSSA en la Terraza de San Diego\, un escenario único! 🍦\nCoctelitos + Brunch + DJ internacional = una experiencia inolvidable bailando bajo el sol radiante de la eterna primavera! 😎 ¡No te lo pierdas! Reserva tus tickets ya y asegura tu lugar en esta fiesta única.
URL:https://labrujula.co/evento/the-brunch-sessions/
LOCATION:Centro Comercial Sandiego\, Calle 33 # 42b - 06\, Medellin\, Colombia
CATEGORIES:Brunch Sessions,Fiesta electrónica
ATTACH;FMTTYPE=image/jpeg:https://labrujula.co/wp-content/uploads/2026/03/TBS.STORY_.1.jpg-1.jpeg
END:VEVENT
END:VCALENDAR