BEGIN:VCALENDAR
VERSION:2.0
PRODID:-//labrujula.co - ECPv6.15.20//NONSGML v1.0//EN
CALSCALE:GREGORIAN
METHOD:PUBLISH
X-WR-CALNAME:labrujula.co
X-ORIGINAL-URL:https://labrujula.co
X-WR-CALDESC:Eventos para labrujula.co
REFRESH-INTERVAL;VALUE=DURATION:PT1H
X-Robots-Tag:noindex
X-PUBLISHED-TTL:PT1H
BEGIN:VTIMEZONE
TZID:America/New_York
BEGIN:DAYLIGHT
TZOFFSETFROM:-0500
TZOFFSETTO:-0400
TZNAME:EDT
DTSTART:20250309T070000
END:DAYLIGHT
BEGIN:STANDARD
TZOFFSETFROM:-0400
TZOFFSETTO:-0500
TZNAME:EST
DTSTART:20251102T060000
END:STANDARD
BEGIN:DAYLIGHT
TZOFFSETFROM:-0500
TZOFFSETTO:-0400
TZNAME:EDT
DTSTART:20260308T070000
END:DAYLIGHT
BEGIN:STANDARD
TZOFFSETFROM:-0400
TZOFFSETTO:-0500
TZNAME:EST
DTSTART:20261101T060000
END:STANDARD
BEGIN:DAYLIGHT
TZOFFSETFROM:-0500
TZOFFSETTO:-0400
TZNAME:EDT
DTSTART:20270314T070000
END:DAYLIGHT
BEGIN:STANDARD
TZOFFSETFROM:-0400
TZOFFSETTO:-0500
TZNAME:EST
DTSTART:20271107T060000
END:STANDARD
END:VTIMEZONE
BEGIN:VEVENT
DTSTART;TZID=America/New_York:20260423T193000
DTEND;TZID=America/New_York:20260425T210000
DTSTAMP:20260426T002358
CREATED:20260416T160621Z
LAST-MODIFIED:20260416T160621Z
UID:10005949-1776972600-1777150800@labrujula.co
SUMMARY:Meras Neas
DESCRIPTION:Un viaje entre dos generaciones: los parceros de los 90 y los de hoy\, sentados en la misma cuadra imaginaria de las comunas de Medellín.\nAntes\, la conversación era en la calle: el radio sonando\, las historias rodando de boca en boca. Hoy\, también pasa por pantallas\, redes y nuevos lenguajes.\nEn esta obra de teatro y comedia\, esas dos formas de habitar el barrio se encuentran\, se contradicen\, se burlan… y se escuchan.\nNos reímos de lo que fuimos y de lo que somos\, mientras los jóvenes se miran a sí mismos para entender que\, aunque cambien los tiempos\, la esencia de la calle\, la amistad y las preguntas por la vida siguen latiendo en el mismo corazón.
URL:https://labrujula.co/evento/meras-neas/
LOCATION:Ateneo Porfirio Barba Jacob\, Calle 47 # 42 - 38\, Medellín\, Antioquia\, Colombia
CATEGORIES:Comedia,Cuentería,Humor,Teatro
ATTACH;FMTTYPE=image/jpeg:https://labrujula.co/wp-content/uploads/2026/04/merasneas.jpeg
ORGANIZER;CN="Ateneo Porfirio Barba Jacob":MAILTO:comunicacionateneo@gmail.com
END:VEVENT
BEGIN:VEVENT
DTSTART;TZID=America/New_York:20260416T193000
DTEND;TZID=America/New_York:20260418T210000
DTSTAMP:20260426T002358
CREATED:20260413T231616Z
LAST-MODIFIED:20260413T231616Z
UID:10005948-1776367800-1776546000@labrujula.co
SUMMARY:Mientras el cielo se esconde
DESCRIPTION:Es una obra que aborda la cruda realidad de la guerra y la desesperanza. A través de paisajes sonoros y narraciones\, narra la historia de cuatro jóvenes\, convirtiéndose en una oda a las víctimas del conflicto. \nAporte voluntario o pre aporte en eticketablanca \nwww.eticketablanca.com
URL:https://labrujula.co/evento/mientras-el-cielo-se-esconde/
LOCATION:Ateneo Porfirio Barba Jacob\, Calle 47 # 42 - 38\, Medellín\, Antioquia\, Colombia
CATEGORIES:Teatro
ATTACH;FMTTYPE=image/jpeg:https://labrujula.co/wp-content/uploads/2026/04/mientraselcieloseesconde.jpg
ORGANIZER;CN="Ateneo Porfirio Barba Jacob":MAILTO:comunicacionateneo@gmail.com
END:VEVENT
END:VCALENDAR